BEGIN:VCALENDAR
VERSION:2.0
PRODID:-//Portarlington Uniting Church - ECPv6.15.20//NONSGML v1.0//EN
CALSCALE:GREGORIAN
METHOD:PUBLISH
X-WR-CALNAME:Portarlington Uniting Church
X-ORIGINAL-URL:https://portarlingtonunitingchurch.org.au
X-WR-CALDESC:Events for Portarlington Uniting Church
REFRESH-INTERVAL;VALUE=DURATION:PT1H
X-Robots-Tag:noindex
X-PUBLISHED-TTL:PT1H
BEGIN:VTIMEZONE
TZID:Australia/Melbourne
BEGIN:STANDARD
TZOFFSETFROM:+1100
TZOFFSETTO:+1000
TZNAME:AEST
DTSTART:20250405T160000
END:STANDARD
BEGIN:DAYLIGHT
TZOFFSETFROM:+1000
TZOFFSETTO:+1100
TZNAME:AEDT
DTSTART:20251004T160000
END:DAYLIGHT
BEGIN:STANDARD
TZOFFSETFROM:+1100
TZOFFSETTO:+1000
TZNAME:AEST
DTSTART:20260404T160000
END:STANDARD
BEGIN:DAYLIGHT
TZOFFSETFROM:+1000
TZOFFSETTO:+1100
TZNAME:AEDT
DTSTART:20261003T160000
END:DAYLIGHT
BEGIN:STANDARD
TZOFFSETFROM:+1100
TZOFFSETTO:+1000
TZNAME:AEST
DTSTART:20270403T160000
END:STANDARD
BEGIN:DAYLIGHT
TZOFFSETFROM:+1000
TZOFFSETTO:+1100
TZNAME:AEDT
DTSTART:20271002T160000
END:DAYLIGHT
END:VTIMEZONE
BEGIN:VEVENT
DTSTART;TZID=Australia/Melbourne:20260426T090000
DTEND;TZID=Australia/Melbourne:20260426T100000
DTSTAMP:20260423T220328
CREATED:20260301T004607Z
LAST-MODIFIED:20260301T004744Z
UID:10000692-1777194000-1777197600@portarlingtonunitingchurch.org.au
SUMMARY:Sunday worship
DESCRIPTION:We continue to meet for worship  and fellowship each Sunday  at 9am at the Guide hall in Boat Rd Portarlington while our church renovations continue
URL:https://portarlingtonunitingchurch.org.au/event/sunday-worship-3/2026-04-26/
END:VEVENT
END:VCALENDAR